Package: smoothclust Version: 1.6.0 Command: /Library/Frameworks/R.framework/Resources/bin/R CMD INSTALL smoothclust StartedAt: 2025-11-17 17:39:32 -0500 (Mon, 17 Nov 2025) EndedAt: 2025-11-17 17:39:41 -0500 (Mon, 17 Nov 2025) EllapsedTime: 9.3 seconds RetCode: 0 Status: OK