Package: smoothclust Version: 1.6.0 Command: /Library/Frameworks/R.framework/Resources/bin/R CMD build --keep-empty-dirs --no-resave-data smoothclust StartedAt: 2025-11-18 01:06:01 -0500 (Tue, 18 Nov 2025) EndedAt: 2025-11-18 01:06:36 -0500 (Tue, 18 Nov 2025) EllapsedTime: 34.3 seconds RetCode: 0 Status: OK PackageFile: smoothclust_1.6.0.tar.gz PackageFileSize: 853.8 KiB