Package: smoothclust Version: 1.6.0 Maintainer: Lukas M. Weber MaintainerEmail: lmweb012 at gmail.com git_url: https://git.bioconductor.org/packages/smoothclust git_branch: RELEASE_3_22 git_last_commit: da7fe79 git_last_commit_date: 2025-10-29 11:29:02 -0500 (Wed, 29 Oct 2025)