Package: smartid Version: 1.6.0 Command: /home/biocbuild/bbs-3.22-bioc/R/bin/R CMD INSTALL smartid StartedAt: 2025-11-17 17:32:26 -0500 (Mon, 17 Nov 2025) EndedAt: 2025-11-17 17:32:52 -0500 (Mon, 17 Nov 2025) EllapsedTime: 26.3 seconds RetCode: 0 Status: OK