Package: sketchR Version: 1.6.0 Command: /Library/Frameworks/R.framework/Resources/bin/R CMD INSTALL sketchR StartedAt: 2025-11-03 15:22:55 -0500 (Mon, 03 Nov 2025) EndedAt: 2025-11-03 15:23:26 -0500 (Mon, 03 Nov 2025) EllapsedTime: 30.2 seconds RetCode: 0 Status: OK