Package: sketchR Version: 1.6.0 Command: /Library/Frameworks/R.framework/Resources/bin/R CMD build --keep-empty-dirs --no-resave-data sketchR StartedAt: 2025-11-03 18:50:47 -0500 (Mon, 03 Nov 2025) EndedAt: 2025-11-03 18:54:46 -0500 (Mon, 03 Nov 2025) EllapsedTime: 238.8 seconds RetCode: 0 Status: OK PackageFile: sketchR_1.6.0.tar.gz PackageFileSize: 2.755 MiB