Package: sitePath Version: 1.26.0 Command: /home/biocbuild/bbs-3.22-bioc/R/bin/R CMD INSTALL sitePath StartedAt: 2025-11-02 15:17:01 -0500 (Sun, 02 Nov 2025) EndedAt: 2025-11-02 15:17:41 -0500 (Sun, 02 Nov 2025) EllapsedTime: 39.9 seconds RetCode: 0 Status: OK