Package: sitePath Version: 1.26.0 Command: /home/biocbuild/bbs-3.22-bioc/R/bin/R CMD build --keep-empty-dirs --no-resave-data --md5 sitePath StartedAt: 2025-11-02 20:24:20 -0500 (Sun, 02 Nov 2025) EndedAt: 2025-11-02 20:25:21 -0500 (Sun, 02 Nov 2025) EllapsedTime: 61.1 seconds RetCode: 0 Status: OK PackageFile: sitePath_1.26.0.tar.gz PackageFileSize: 1.221 MiB