Package: singscore Version: 1.30.0 Command: /home/biocbuild/bbs-3.22-bioc/R/bin/R CMD INSTALL singscore StartedAt: 2025-11-16 15:30:49 -0500 (Sun, 16 Nov 2025) EndedAt: 2025-11-16 15:31:21 -0500 (Sun, 16 Nov 2025) EllapsedTime: 32.5 seconds RetCode: 0 Status: OK