Package: singleCellTK Version: 2.20.0 Command: /home/biocbuild/bbs-3.22-bioc/R/bin/R CMD build --keep-empty-dirs --no-resave-data --md5 singleCellTK StartedAt: 2025-11-11 20:16:29 -0500 (Tue, 11 Nov 2025) EndedAt: 2025-11-11 20:17:18 -0500 (Tue, 11 Nov 2025) EllapsedTime: 49.0 seconds RetCode: 0 Status: OK PackageFile: singleCellTK_2.20.0.tar.gz PackageFileSize: 3.249 MiB