Package: simpleSeg Version: 1.11.1 Command: /home/biocbuild/bbs-3.22-bioc/R/bin/R CMD INSTALL simpleSeg StartedAt: 2025-10-28 15:36:01 -0400 (Tue, 28 Oct 2025) EndedAt: 2025-10-28 15:36:49 -0400 (Tue, 28 Oct 2025) EllapsedTime: 47.7 seconds RetCode: 0 Status: OK