Package: simpleSeg Version: 1.11.1 Command: /home/biocbuild/bbs-3.22-bioc/R/bin/R CMD build --keep-empty-dirs --no-resave-data --md5 simpleSeg StartedAt: 2025-10-28 20:05:50 -0400 (Tue, 28 Oct 2025) EndedAt: 2025-10-28 20:08:35 -0400 (Tue, 28 Oct 2025) EllapsedTime: 165.2 seconds RetCode: 0 Status: OK PackageFile: simpleSeg_1.11.1.tar.gz PackageFileSize: 4.547 MiB