Package: similaRpeak Version: 1.42.0 Command: /home/biocbuild/bbs-3.22-bioc/R/bin/R CMD INSTALL similaRpeak StartedAt: 2025-11-17 16:38:52 -0500 (Mon, 17 Nov 2025) EndedAt: 2025-11-17 16:38:57 -0500 (Mon, 17 Nov 2025) EllapsedTime: 5.4 seconds RetCode: 0 Status: OK