Package: simPIC Version: 1.6.0 Command: /Library/Frameworks/R.framework/Resources/bin/R CMD INSTALL simPIC StartedAt: 2025-11-10 15:15:37 -0500 (Mon, 10 Nov 2025) EndedAt: 2025-11-10 15:15:46 -0500 (Mon, 10 Nov 2025) EllapsedTime: 9.7 seconds RetCode: 0 Status: OK