Package: signeR Version: 2.12.0 Command: /home/biocbuild/bbs-3.22-bioc/R/bin/R CMD INSTALL signeR StartedAt: 2025-11-13 15:55:42 -0500 (Thu, 13 Nov 2025) EndedAt: 2025-11-13 15:57:09 -0500 (Thu, 13 Nov 2025) EllapsedTime: 86.5 seconds RetCode: 0 Status: OK