Package: signatureSearch Version: 1.23.0 Command: /home/biocbuild/bbs-3.22-bioc/R/bin/R CMD INSTALL signatureSearch StartedAt: 2025-10-28 15:48:05 -0400 (Tue, 28 Oct 2025) EndedAt: 2025-10-28 15:49:47 -0400 (Tue, 28 Oct 2025) EllapsedTime: 102.0 seconds RetCode: 0 Status: OK