Package: signatureSearch Version: 1.23.0 Command: /home/biocbuild/bbs-3.22-bioc/R/bin/R CMD build --keep-empty-dirs --no-resave-data --md5 signatureSearch StartedAt: 2025-10-28 20:04:09 -0400 (Tue, 28 Oct 2025) EndedAt: 2025-10-28 20:16:17 -0400 (Tue, 28 Oct 2025) EllapsedTime: 728.6 seconds RetCode: 0 Status: OK PackageFile: signatureSearch_1.23.0.tar.gz PackageFileSize: 5.224 MiB