Package: sigFeature Version: 1.28.0 Command: /Library/Frameworks/R.framework/Resources/bin/R CMD INSTALL sigFeature StartedAt: 2025-11-02 15:13:56 -0500 (Sun, 02 Nov 2025) EndedAt: 2025-11-02 15:14:06 -0500 (Sun, 02 Nov 2025) EllapsedTime: 10.0 seconds RetCode: 0 Status: OK