Package: sigFeature Version: 1.28.0 Command: /Library/Frameworks/R.framework/Resources/bin/R CMD build --keep-empty-dirs --no-resave-data sigFeature StartedAt: 2025-11-02 17:44:40 -0500 (Sun, 02 Nov 2025) EndedAt: 2025-11-02 17:44:56 -0500 (Sun, 02 Nov 2025) EllapsedTime: 16.2 seconds RetCode: 0 Status: OK PackageFile: sigFeature_1.28.0.tar.gz PackageFileSize: 370.8 KiB