Package: sigFeature Version: 1.28.0 Command: /Library/Frameworks/R.framework/Resources/bin/R CMD INSTALL sigFeature StartedAt: 2025-11-17 17:33:43 -0500 (Mon, 17 Nov 2025) EndedAt: 2025-11-17 17:33:53 -0500 (Mon, 17 Nov 2025) EllapsedTime: 9.6 seconds RetCode: 0 Status: OK