Package: shinyepico Version: 1.18.0 Command: /home/biocbuild/bbs-3.22-bioc/R/bin/R CMD INSTALL shinyepico StartedAt: 2025-11-11 15:47:22 -0500 (Tue, 11 Nov 2025) EndedAt: 2025-11-11 15:47:27 -0500 (Tue, 11 Nov 2025) EllapsedTime: 5.0 seconds RetCode: 0 Status: OK