Package: shinybiocloader Version: 1.0.0 Command: /Library/Frameworks/R.framework/Resources/bin/R CMD INSTALL shinybiocloader StartedAt: 2025-11-17 16:59:55 -0500 (Mon, 17 Nov 2025) EndedAt: 2025-11-17 17:00:03 -0500 (Mon, 17 Nov 2025) EllapsedTime: 7.8 seconds RetCode: 0 Status: OK