Package: shinybiocloader Version: 0.99.1 Command: /Library/Frameworks/R.framework/Resources/bin/R CMD INSTALL shinybiocloader StartedAt: 2025-10-26 15:04:37 -0400 (Sun, 26 Oct 2025) EndedAt: 2025-10-26 15:04:54 -0400 (Sun, 26 Oct 2025) EllapsedTime: 16.6 seconds RetCode: 0 Status: OK