Package: shinybiocloader Version: 1.0.0 Command: /Library/Frameworks/R.framework/Resources/bin/R CMD build --keep-empty-dirs --no-resave-data shinybiocloader StartedAt: 2025-11-18 00:55:14 -0500 (Tue, 18 Nov 2025) EndedAt: 2025-11-18 00:55:20 -0500 (Tue, 18 Nov 2025) EllapsedTime: 6.0 seconds RetCode: 0 Status: OK PackageFile: shinybiocloader_1.0.0.tar.gz PackageFileSize: 28.83 KiB