Package: shinyDSP Version: 1.2.0 Command: /Library/Frameworks/R.framework/Resources/bin/R CMD INSTALL shinyDSP StartedAt: 2025-11-10 15:29:43 -0500 (Mon, 10 Nov 2025) EndedAt: 2025-11-10 15:30:04 -0500 (Mon, 10 Nov 2025) EllapsedTime: 20.6 seconds RetCode: 0 Status: OK