Package: shinyDSP Version: 1.2.0 Command: /Library/Frameworks/R.framework/Resources/bin/R CMD build --keep-empty-dirs --no-resave-data shinyDSP StartedAt: 2025-11-10 17:45:14 -0500 (Mon, 10 Nov 2025) EndedAt: 2025-11-10 17:47:39 -0500 (Mon, 10 Nov 2025) EllapsedTime: 145.6 seconds RetCode: 0 Status: OK PackageFile: shinyDSP_1.2.0.tar.gz PackageFileSize: 2.657 MiB