Package: sevenC Version: 1.30.0 Command: /home/biocbuild/bbs-3.22-bioc/R/bin/R CMD INSTALL sevenC StartedAt: 2025-11-17 17:37:12 -0500 (Mon, 17 Nov 2025) EndedAt: 2025-11-17 17:37:38 -0500 (Mon, 17 Nov 2025) EllapsedTime: 25.8 seconds RetCode: 0 Status: OK