Package: sevenC Version: 1.30.0 Command: /home/biocbuild/bbs-3.22-bioc/R/bin/R CMD build --keep-empty-dirs --no-resave-data --md5 sevenC StartedAt: 2025-11-17 23:29:31 -0500 (Mon, 17 Nov 2025) EndedAt: 2025-11-17 23:30:53 -0500 (Mon, 17 Nov 2025) EllapsedTime: 82.1 seconds RetCode: 0 Status: OK PackageFile: sevenC_1.30.0.tar.gz PackageFileSize: 1.956 MiB