Package: seqcombo Version: 1.32.0 Command: /home/biocbuild/bbs-3.22-bioc/R/bin/R CMD INSTALL seqcombo StartedAt: 2025-11-17 17:01:11 -0500 (Mon, 17 Nov 2025) EndedAt: 2025-11-17 17:01:16 -0500 (Mon, 17 Nov 2025) EllapsedTime: 5.1 seconds RetCode: 0 Status: OK