Package: seqPattern Version: 1.42.0 Command: /Library/Frameworks/R.framework/Resources/bin/R CMD INSTALL seqPattern StartedAt: 2025-11-03 15:22:43 -0500 (Mon, 03 Nov 2025) EndedAt: 2025-11-03 15:23:00 -0500 (Mon, 03 Nov 2025) EllapsedTime: 17.7 seconds RetCode: 0 Status: OK