Package: seqPattern Version: 1.42.0 Command: /Library/Frameworks/R.framework/Resources/bin/R CMD build --keep-empty-dirs --no-resave-data seqPattern StartedAt: 2025-11-03 18:46:24 -0500 (Mon, 03 Nov 2025) EndedAt: 2025-11-03 18:47:04 -0500 (Mon, 03 Nov 2025) EllapsedTime: 39.9 seconds RetCode: 0 Status: OK PackageFile: seqPattern_1.42.0.tar.gz PackageFileSize: 5.367 MiB