Package: seqPattern Version: 1.42.0 Command: /Library/Frameworks/R.framework/Resources/bin/R CMD INSTALL seqPattern StartedAt: 2025-11-17 17:34:49 -0500 (Mon, 17 Nov 2025) EndedAt: 2025-11-17 17:34:53 -0500 (Mon, 17 Nov 2025) EllapsedTime: 4.5 seconds RetCode: 0 Status: OK