Package: seqPattern Version: 1.42.0 Command: /Library/Frameworks/R.framework/Resources/bin/R CMD build --keep-empty-dirs --no-resave-data seqPattern StartedAt: 2025-11-18 00:52:54 -0500 (Tue, 18 Nov 2025) EndedAt: 2025-11-18 00:53:09 -0500 (Tue, 18 Nov 2025) EllapsedTime: 15.2 seconds RetCode: 0 Status: OK PackageFile: seqPattern_1.42.0.tar.gz PackageFileSize: 5.368 MiB