Package: seqPattern Version: 1.42.0 Command: rm -rf seqPattern.buildbin-libdir && mkdir seqPattern.buildbin-libdir && /Users/biocbuild/BBS/utils/build-universal.sh seqPattern_1.42.0.tar.gz /Library/Frameworks/R.framework/Resources/bin/R seqPattern.buildbin-libdir StartedAt: 2025-11-18 16:24:44 -0500 (Tue, 18 Nov 2025) EndedAt: 2025-11-18 16:24:51 -0500 (Tue, 18 Nov 2025) EllapsedTime: 7.1 seconds RetCode: 0 Status: OK PackageFile: seqPattern_1.42.0.tgz PackageFileSize: 3.523 MiB