Package: seqCAT Version: 1.32.0 Command: /home/biocbuild/bbs-3.22-bioc/R/bin/R CMD INSTALL seqCAT StartedAt: 2025-11-06 15:42:25 -0500 (Thu, 06 Nov 2025) EndedAt: 2025-11-06 15:43:07 -0500 (Thu, 06 Nov 2025) EllapsedTime: 42.2 seconds RetCode: 0 Status: OK