Package: seqCAT Version: 1.32.0 Command: /home/biocbuild/bbs-3.22-bioc/R/bin/R CMD build --keep-empty-dirs --no-resave-data --md5 seqCAT StartedAt: 2025-11-06 20:02:02 -0500 (Thu, 06 Nov 2025) EndedAt: 2025-11-06 20:03:33 -0500 (Thu, 06 Nov 2025) EllapsedTime: 91.1 seconds RetCode: 0 Status: OK PackageFile: seqCAT_1.32.0.tar.gz PackageFileSize: 1.893 MiB