Package: seqArchRplus Version: 1.10.0 Command: /home/biocbuild/bbs-3.22-bioc/R/bin/R CMD INSTALL seqArchRplus StartedAt: 2025-11-17 18:19:05 -0500 (Mon, 17 Nov 2025) EndedAt: 2025-11-17 18:19:29 -0500 (Mon, 17 Nov 2025) EllapsedTime: 23.9 seconds RetCode: 0 Status: OK