Package: seqArchR Version: 1.13.1 Command: /home/biocbuild/bbs-3.22-bioc/R/bin/R CMD INSTALL seqArchR StartedAt: 2025-10-28 15:23:06 -0400 (Tue, 28 Oct 2025) EndedAt: 2025-10-28 15:23:23 -0400 (Tue, 28 Oct 2025) EllapsedTime: 17.0 seconds RetCode: 0 Status: OK