Package: seqArchR Version: 1.13.1 Command: /home/biocbuild/bbs-3.22-bioc/R/bin/R CMD build --keep-empty-dirs --no-resave-data --md5 seqArchR StartedAt: 2025-10-28 20:00:12 -0400 (Tue, 28 Oct 2025) EndedAt: 2025-10-28 20:00:54 -0400 (Tue, 28 Oct 2025) EllapsedTime: 42.0 seconds RetCode: 0 Status: OK PackageFile: seqArchR_1.13.1.tar.gz PackageFileSize: 4.405 MiB