Package: selectKSigs Version: 1.22.0 Command: /home/biocbuild/bbs-3.22-bioc/R/bin/R CMD build --keep-empty-dirs --no-resave-data --md5 selectKSigs StartedAt: 2025-11-20 20:51:06 -0500 (Thu, 20 Nov 2025) EndedAt: 2025-11-20 20:52:34 -0500 (Thu, 20 Nov 2025) EllapsedTime: 88.1 seconds RetCode: 0 Status: OK PackageFile: selectKSigs_1.22.0.tar.gz PackageFileSize: 392.1 KiB