Package: segmenter Version: 1.16.0 Command: /home/biocbuild/R/R/bin/R CMD INSTALL segmenter StartedAt: 2025-11-10 22:11:17 -0000 (Mon, 10 Nov 2025) EndedAt: 2025-11-10 22:12:18 -0000 (Mon, 10 Nov 2025) EllapsedTime: 60.9 seconds RetCode: 0 Status: OK