Package: segmenter Version: 1.15.0 Command: /home/biocbuild/bbs-3.22-bioc/R/bin/R CMD INSTALL segmenter StartedAt: 2025-10-24 16:10:51 -0400 (Fri, 24 Oct 2025) EndedAt: 2025-10-24 16:11:35 -0400 (Fri, 24 Oct 2025) EllapsedTime: 43.6 seconds RetCode: 0 Status: OK