Package: segmenter Version: 1.16.0 Command: /home/biocbuild/bbs-3.22-bioc/R/bin/R CMD check --install=check:segmenter.install-out.txt --library=/home/biocbuild/bbs-3.22-bioc/R/site-library --timings segmenter_1.16.0.tar.gz StartedAt: 2025-11-26 04:24:22 -0500 (Wed, 26 Nov 2025) EndedAt: 2025-11-26 04:38:44 -0500 (Wed, 26 Nov 2025) EllapsedTime: 862.9 seconds RetCode: 0 Status: OK CheckDir: segmenter.Rcheck Warnings: 0