Package: segmenter Version: 1.15.0 Command: /Library/Frameworks/R.framework/Resources/bin/R CMD INSTALL segmenter StartedAt: 2025-10-24 15:59:15 -0400 (Fri, 24 Oct 2025) EndedAt: 2025-10-24 16:00:07 -0400 (Fri, 24 Oct 2025) EllapsedTime: 51.8 seconds RetCode: 0 Status: OK