Package: segmentSeq Version: 2.43.1 Command: /home/biocbuild/bbs-3.22-bioc/R/bin/R CMD build --keep-empty-dirs --no-resave-data --md5 segmentSeq StartedAt: 2025-10-24 20:08:58 -0400 (Fri, 24 Oct 2025) EndedAt: 2025-10-24 20:11:23 -0400 (Fri, 24 Oct 2025) EllapsedTime: 145.2 seconds RetCode: 0 Status: OK PackageFile: segmentSeq_2.43.1.tar.gz PackageFileSize: 3.046 MiB