Package: segmentSeq Version: 2.43.1 Command: /Library/Frameworks/R.framework/Resources/bin/R CMD INSTALL segmentSeq StartedAt: 2025-10-26 15:27:20 -0400 (Sun, 26 Oct 2025) EndedAt: 2025-10-26 15:27:36 -0400 (Sun, 26 Oct 2025) EllapsedTime: 15.9 seconds RetCode: 0 Status: OK