Package: segmentSeq Version: 2.43.1 Command: /Library/Frameworks/R.framework/Resources/bin/R CMD build --keep-empty-dirs --no-resave-data segmentSeq StartedAt: 2025-10-26 17:57:56 -0400 (Sun, 26 Oct 2025) EndedAt: 2025-10-26 17:58:51 -0400 (Sun, 26 Oct 2025) EllapsedTime: 54.6 seconds RetCode: 0 Status: OK PackageFile: segmentSeq_2.43.1.tar.gz PackageFileSize: 3.075 MiB