Package: segmentSeq Version: 2.43.1 Command: rm -rf segmentSeq.buildbin-libdir && mkdir segmentSeq.buildbin-libdir && /Users/biocbuild/BBS/utils/build-universal.sh segmentSeq_2.43.1.tar.gz /Library/Frameworks/R.framework/Resources/bin/R segmentSeq.buildbin-libdir StartedAt: 2025-10-26 22:48:01 -0400 (Sun, 26 Oct 2025) EndedAt: 2025-10-26 22:48:16 -0400 (Sun, 26 Oct 2025) EllapsedTime: 15.3 seconds RetCode: 0 Status: OK PackageFile: segmentSeq_2.43.1.tgz PackageFileSize: 3.82 MiB