Package: sechm Version: 1.18.0 Command: /home/biocbuild/bbs-3.22-bioc/R/bin/R CMD build --keep-empty-dirs --no-resave-data --md5 sechm StartedAt: 2025-11-06 20:00:22 -0500 (Thu, 06 Nov 2025) EndedAt: 2025-11-06 20:01:31 -0500 (Thu, 06 Nov 2025) EllapsedTime: 69.1 seconds RetCode: 0 Status: OK PackageFile: sechm_1.18.0.tar.gz PackageFileSize: 1.049 MiB