Package: scviR Version: 1.10.0 Command: /home/biocbuild/bbs-3.22-bioc/R/bin/R CMD INSTALL scviR StartedAt: 2025-10-31 16:05:49 -0400 (Fri, 31 Oct 2025) EndedAt: 2025-10-31 16:06:20 -0400 (Fri, 31 Oct 2025) EllapsedTime: 30.8 seconds RetCode: 0 Status: OK